BEGIN:VCALENDAR
VERSION:2.0
PRODID:-//www.ketchikanarts.org//NONSGML kigkonsult.se iCalcreator 2.30.10/
 /
CALSCALE:GREGORIAN
METHOD:PUBLISH
UID:2e0088bf-f618-4f71-838d-5a4e57623293
X-WR-CALDESC:We strive to promote cooperation and an exchange of ideas amon
 g those interested in or engaged in quilt making\; to instruct members in 
 methods and techniques and to inspire personal achievement\; and to encour
 age and maintain high standards of design and technique in quilt making.\n
 \nAll levels of quilters are invited and encouraged to attend!
X-WR-RELCALID:d9caa1e542767db1c9745a7670a3459b
X-WR-TIMEZONE:America/Anchorage
BEGIN:VTIMEZONE
TZID:America/Anchorage
BEGIN:STANDARD
TZNAME:AKST
DTSTART:20301103T020000
TZOFFSETFROM:-0800
TZOFFSETTO:-0900
RDATE:20311102T020000
END:STANDARD
BEGIN:DAYLIGHT
TZNAME:AKDT
DTSTART:20300310T020000
TZOFFSETFROM:-0900
TZOFFSETTO:-0800
RDATE:20310309T020000
RDATE:20320314T020000
END:DAYLIGHT
END:VTIMEZONE
BEGIN:VEVENT
UID:4737f44d-c402-4b7c-ac0c-6588c1af1e0e
DTSTAMP:20260421T090213Z
DESCRIPTION:We strive to promote cooperation and an exchange of ideas among
  those interested in or engaged in quilt making\; to instruct members in m
 ethods and techniques and to inspire personal achievement\; and to encoura
 ge and maintain high standards of design and technique in quilt making.\n
 \nAll levels of quilters are invited and encouraged to attend!
DTSTART;TZID=America/Anchorage:20310128T183000
DTEND;TZID=America/Anchorage:20310128T200000
LOCATION:Holy Name Church Parish Hall
SUMMARY:Rainy Day Quilters Meeting!
END:VEVENT
END:VCALENDAR
