BEGIN:VCALENDAR
VERSION:2.0
PRODID:-//www.ketchikanarts.org//NONSGML kigkonsult.se iCalcreator 2.30.10/
 /
CALSCALE:GREGORIAN
METHOD:PUBLISH
UID:f520db75-b80a-4089-95aa-4e3504b87945
X-WR-CALDESC:Join us for our monthly meeting (regular date subject to chang
 e due to the Christmas Holiday and annual Quilt Show).
X-WR-RELCALID:3e22ae7a61a3e16f4766f06b43f03389
X-WR-TIMEZONE:America/Anchorage
BEGIN:VTIMEZONE
TZID:America/Anchorage
BEGIN:STANDARD
TZNAME:AKST
DTSTART:20231105T020000
TZOFFSETFROM:-0800
TZOFFSETTO:-0900
RDATE:20241103T020000
END:STANDARD
BEGIN:DAYLIGHT
TZNAME:AKDT
DTSTART:20230312T020000
TZOFFSETFROM:-0900
TZOFFSETTO:-0800
RDATE:20240310T020000
RDATE:20250309T020000
END:DAYLIGHT
END:VTIMEZONE
BEGIN:VEVENT
UID:6a2be080-ae30-45e7-bbb7-02743fa93954
DTSTAMP:20260419T154010Z
DESCRIPTION:Join us for our monthly meeting (regular date subject to change
  due to the Christmas Holiday and annual Quilt Show).
DTSTART;TZID=America/Anchorage:20231226T183000
DTEND;TZID=America/Anchorage:20231226T200000
LOCATION:Holy Name Parish Hall
SUMMARY:Rainy Day Quilt Guild Meeting
END:VEVENT
END:VCALENDAR
