BEGIN:VCALENDAR
VERSION:2.0
PRODID:-//www.ketchikanarts.org//NONSGML kigkonsult.se iCalcreator 2.30.10/
 /
CALSCALE:GREGORIAN
METHOD:PUBLISH
UID:7f60ffbc-b1ad-49ed-8320-e2165c68d0f0
X-WR-CALDESC:Sign up sheets and class supply list are available at Studio 1
 03!!!\n\nQuilt Guild members $35\nNon Quilt Guild Members $40
X-WR-RELCALID:69edce37975e59c34d60150695ad99c4
X-WR-TIMEZONE:America/Anchorage
BEGIN:VTIMEZONE
TZID:America/Anchorage
BEGIN:STANDARD
TZNAME:AKST
DTSTART:20231105T020000
TZOFFSETFROM:-0800
TZOFFSETTO:-0900
RDATE:20241103T020000
END:STANDARD
BEGIN:DAYLIGHT
TZNAME:AKDT
DTSTART:20230312T020000
TZOFFSETFROM:-0900
TZOFFSETTO:-0800
RDATE:20240310T020000
RDATE:20250309T020000
END:DAYLIGHT
END:VTIMEZONE
BEGIN:VEVENT
UID:c070067e-14c3-44bf-adaf-add948c3959e
DTSTAMP:20260419T153933Z
DESCRIPTION:Sign up sheets and class supply list are available at Studio 10
 3!!!\n\nQuilt Guild members $35\nNon Quilt Guild Members $40
DTSTART;TZID=America/Anchorage:20231203T120000
DTEND;TZID=America/Anchorage:20231203T160000
LOCATION:S. Tongass Fire Station
SUMMARY:Quilt Class - taught by Peggy Gelbrich
END:VEVENT
END:VCALENDAR
