BEGIN:VCALENDAR
VERSION:2.0
PRODID:-//www.ketchikanarts.org//NONSGML kigkonsult.se iCalcreator 2.30.10/
 /
CALSCALE:GREGORIAN
METHOD:PUBLISH
UID:31de7540-2e75-45e5-b1ea-0fd7106ab244
X-WR-CALDESC:Join us for our monthly meeting!
X-WR-RELCALID:988843d24d78d095e63e2b5ea0fc3ff5
X-WR-TIMEZONE:America/Anchorage
BEGIN:VTIMEZONE
TZID:America/Anchorage
BEGIN:STANDARD
TZNAME:AKST
DTSTART:20221106T020000
TZOFFSETFROM:-0800
TZOFFSETTO:-0900
RDATE:20231105T020000
RDATE:20241103T020000
END:STANDARD
BEGIN:DAYLIGHT
TZNAME:AKDT
DTSTART:20230312T020000
TZOFFSETFROM:-0900
TZOFFSETTO:-0800
RDATE:20240310T020000
RDATE:20250309T020000
END:DAYLIGHT
END:VTIMEZONE
BEGIN:VEVENT
UID:07404e87-d29f-4626-a8f9-c048142a1df0
DTSTAMP:20260419T183849Z
DESCRIPTION:Join us for our monthly meeting!
DTSTART;TZID=America/Anchorage:20231024T183000
DTEND;TZID=America/Anchorage:20231024T200000
LOCATION:Holy Name Parish Hall
SUMMARY:Rainy Day Quilt Guild Meeting
END:VEVENT
END:VCALENDAR
