BEGIN:VCALENDAR
VERSION:2.0
PRODID:-//www.ketchikanarts.org//NONSGML kigkonsult.se iCalcreator 2.30.10/
 /
CALSCALE:GREGORIAN
METHOD:PUBLISH
UID:3cf80257-20d3-4029-8b27-09d6e3a3ee18
X-WR-CALDESC:Join us for our monthly meeting (regular date changed due to t
 he Christmas Holiday). This is our annual member potluck and block exchang
 e!
X-WR-RELCALID:3a42ede3295f1ecb2e5401793699ab0e
X-WR-TIMEZONE:America/Anchorage
BEGIN:VTIMEZONE
TZID:America/Anchorage
BEGIN:STANDARD
TZNAME:AKST
DTSTART:20221106T020000
TZOFFSETFROM:-0800
TZOFFSETTO:-0900
RDATE:20231105T020000
END:STANDARD
BEGIN:DAYLIGHT
TZNAME:AKDT
DTSTART:20220313T020000
TZOFFSETFROM:-0900
TZOFFSETTO:-0800
RDATE:20230312T020000
RDATE:20240310T020000
END:DAYLIGHT
END:VTIMEZONE
BEGIN:VEVENT
UID:700079e6-6302-4abe-afd6-c0acd53fd57e
DTSTAMP:20260420T103825Z
DESCRIPTION:Join us for our monthly meeting (regular date changed due to th
 e Christmas Holiday). This is our annual member potluck and block exchange
 !
DTSTART;TZID=America/Anchorage:20221213T183000
DTEND;TZID=America/Anchorage:20221213T200000
LOCATION:Holy Name Parish Hall
SUMMARY:Rainy Day Quilt Guild Meeting
END:VEVENT
END:VCALENDAR
