BEGIN:VCALENDAR
VERSION:2.0
PRODID:-//www.ketchikanarts.org//NONSGML kigkonsult.se iCalcreator 2.30.10/
 /
CALSCALE:GREGORIAN
METHOD:PUBLISH
UID:e52072ad-0a14-464b-b9dc-89c0d470e409
X-WR-CALDESC:Monthly Board of Directors Meeting. Currently all KAAHC Board 
 meetings are held in person. If you would like to attend a Board meeting p
 lease contact Kathleen Light for information. kathleenl@ketchikanarts.org
X-WR-RELCALID:7947fdaadb1f3f4b2170e31cb4402e78
X-WR-TIMEZONE:America/Anchorage
BEGIN:VTIMEZONE
TZID:America/Anchorage
BEGIN:STANDARD
TZNAME:AKST
DTSTART:20261101T020000
TZOFFSETFROM:-0800
TZOFFSETTO:-0900
RDATE:20271107T020000
RDATE:20281105T020000
END:STANDARD
BEGIN:DAYLIGHT
TZNAME:AKDT
DTSTART:20270314T020000
TZOFFSETFROM:-0900
TZOFFSETTO:-0800
RDATE:20280312T020000
END:DAYLIGHT
END:VTIMEZONE
BEGIN:VEVENT
UID:b997f48b-6e11-429b-a5a3-f0bd1b433e5b
DTSTAMP:20260421T090124Z
DESCRIPTION:Monthly Board of Directors Meeting. Currently all KAAHC Board m
 eetings are held in person. If you would like to attend a Board meeting pl
 ease contact Kathleen Light for information. kathleenl@ketchikanarts.org
DTSTART;TZID=America/Anchorage:20270721T173000
DTEND;TZID=America/Anchorage:20270721T190000
LOCATION:330 Main Street
SUMMARY:Ketchikan Area Arts and Humanities Board of Directors Meeting
END:VEVENT
END:VCALENDAR
