BEGIN:VCALENDAR
VERSION:2.0
PRODID:-//www.ketchikanarts.org//NONSGML kigkonsult.se iCalcreator 2.30.10/
 /
CALSCALE:GREGORIAN
METHOD:PUBLISH
UID:c1362b3e-4579-4d1b-a72a-ace1109156b0
X-WR-CALDESC:Monthly Board of Directors Meeting. Currently all KAAHC Board 
 meetings are held in person. If you would like to attend a Board meeting p
 lease contact Kathleen Light for information. kathleenl@ketchikanarts.org
X-WR-RELCALID:84adc2336fac4b7c5fad42e019ddb8cb
X-WR-TIMEZONE:America/Anchorage
BEGIN:VTIMEZONE
TZID:America/Anchorage
BEGIN:STANDARD
TZNAME:AKST
DTSTART:20261101T020000
TZOFFSETFROM:-0800
TZOFFSETTO:-0900
RDATE:20271107T020000
RDATE:20281105T020000
END:STANDARD
BEGIN:DAYLIGHT
TZNAME:AKDT
DTSTART:20270314T020000
TZOFFSETFROM:-0900
TZOFFSETTO:-0800
RDATE:20280312T020000
END:DAYLIGHT
END:VTIMEZONE
BEGIN:VEVENT
UID:c9be73f0-b113-4c88-83d0-ae417f15ddff
DTSTAMP:20260421T060110Z
DESCRIPTION:Monthly Board of Directors Meeting. Currently all KAAHC Board m
 eetings are held in person. If you would like to attend a Board meeting pl
 ease contact Kathleen Light for information. kathleenl@ketchikanarts.org
DTSTART;TZID=America/Anchorage:20270519T173000
DTEND;TZID=America/Anchorage:20270519T190000
LOCATION:330 Main Street
SUMMARY:Ketchikan Area Arts and Humanities Board of Directors Meeting
END:VEVENT
END:VCALENDAR
