BEGIN:VCALENDAR
VERSION:2.0
PRODID:-//www.ketchikanarts.org//NONSGML kigkonsult.se iCalcreator 2.30.10/
 /
CALSCALE:GREGORIAN
METHOD:PUBLISH
UID:68447b95-14c0-4382-9fa5-939e4779b703
X-WR-CALDESC:The KCCB Board meets the 3rd Monday of the month prior to rehe
 arsal\, at the Ketchikan First Assembly of God.
X-WR-RELCALID:03366e24e52e20643957d4cd17de9553
X-WR-TIMEZONE:America/Anchorage
BEGIN:VTIMEZONE
TZID:America/Anchorage
BEGIN:STANDARD
TZNAME:AKST
DTSTART:20261101T020000
TZOFFSETFROM:-0800
TZOFFSETTO:-0900
RDATE:20271107T020000
RDATE:20281105T020000
END:STANDARD
BEGIN:DAYLIGHT
TZNAME:AKDT
DTSTART:20270314T020000
TZOFFSETFROM:-0900
TZOFFSETTO:-0800
RDATE:20280312T020000
END:DAYLIGHT
END:VTIMEZONE
BEGIN:VEVENT
UID:2ea7705a-3dff-4ce6-860e-ebe5d0e54f3d
DTSTAMP:20260421T060156Z
DESCRIPTION:The KCCB Board meets the 3rd Monday of the month prior to rehea
 rsal\, at the Ketchikan First Assembly of God.
DTSTART;TZID=America/Anchorage:20270517T173000
DTEND;TZID=America/Anchorage:20270517T183000
LOCATION:3225 Fairview Ave\, Ketchikan\, AK 99001 US
SUMMARY:Ketchikan Community Concert Band Board Meeting
END:VEVENT
END:VCALENDAR
