BEGIN:VCALENDAR
VERSION:2.0
PRODID:-//www.ketchikanarts.org//NONSGML kigkonsult.se iCalcreator 2.30.10/
 /
CALSCALE:GREGORIAN
METHOD:PUBLISH
UID:fab0d769-c1a4-4393-8108-eaaac639ada7
X-WR-CALDESC:Monthly Board of Directors Meeting. Currently all KAAHC Board 
 meetings are held in person. If you would like to attend a Board meeting p
 lease contact Kathleen Light for information. kathleenl@ketchikanarts.org
X-WR-RELCALID:a05a361ad44c646fdb1e2711ecdc8e0f
X-WR-TIMEZONE:America/Anchorage
BEGIN:VTIMEZONE
TZID:America/Anchorage
BEGIN:STANDARD
TZNAME:AKST
DTSTART:20261101T020000
TZOFFSETFROM:-0800
TZOFFSETTO:-0900
RDATE:20271107T020000
END:STANDARD
BEGIN:DAYLIGHT
TZNAME:AKDT
DTSTART:20260308T020000
TZOFFSETFROM:-0900
TZOFFSETTO:-0800
RDATE:20270314T020000
RDATE:20280312T020000
END:DAYLIGHT
END:VTIMEZONE
BEGIN:VEVENT
UID:0cb39b27-3755-4060-9e64-79ada6cdd186
DTSTAMP:20260420T211323Z
DESCRIPTION:Monthly Board of Directors Meeting. Currently all KAAHC Board m
 eetings are held in person. If you would like to attend a Board meeting pl
 ease contact Kathleen Light for information. kathleenl@ketchikanarts.org
DTSTART;TZID=America/Anchorage:20261118T173000
DTEND;TZID=America/Anchorage:20261118T190000
LOCATION:330 Main Street
SUMMARY:Ketchikan Area Arts and Humanities Board of Directors Meeting
END:VEVENT
END:VCALENDAR
