BEGIN:VCALENDAR
VERSION:2.0
PRODID:-//www.ketchikanarts.org//NONSGML kigkonsult.se iCalcreator 2.30.10/
 /
CALSCALE:GREGORIAN
METHOD:PUBLISH
UID:9b0a3fe0-01c2-4fb1-80e8-c4965ab3191b
X-WR-CALDESC:The KCCB Board meets the 3rd Monday of the month prior to rehe
 arsal\, at the Ketchikan First Assembly of God.
X-WR-RELCALID:164c153cf7e54cb7765c222c103cc32a
X-WR-TIMEZONE:America/Anchorage
BEGIN:VTIMEZONE
TZID:America/Anchorage
BEGIN:STANDARD
TZNAME:AKST
DTSTART:20251102T020000
TZOFFSETFROM:-0800
TZOFFSETTO:-0900
RDATE:20261101T020000
RDATE:20271107T020000
END:STANDARD
BEGIN:DAYLIGHT
TZNAME:AKDT
DTSTART:20260308T020000
TZOFFSETFROM:-0900
TZOFFSETTO:-0800
RDATE:20270314T020000
RDATE:20280312T020000
END:DAYLIGHT
END:VTIMEZONE
BEGIN:VEVENT
UID:ef8c6fff-a00c-4d94-ac6f-cdb05caacf96
DTSTAMP:20260420T175853Z
DESCRIPTION:The KCCB Board meets the 3rd Monday of the month prior to rehea
 rsal\, at the Ketchikan First Assembly of God.
DTSTART;TZID=America/Anchorage:20260921T173000
DTEND;TZID=America/Anchorage:20260921T183000
LOCATION:3225 Fairview Ave\, Ketchikan\, AK 99001 US
SUMMARY:Ketchikan Community Concert Band Board Meeting
END:VEVENT
END:VCALENDAR
