BEGIN:VCALENDAR
VERSION:2.0
PRODID:-//www.ketchikanarts.org//NONSGML kigkonsult.se iCalcreator 2.30.10/
 /
CALSCALE:GREGORIAN
METHOD:PUBLISH
UID:afcc4ec4-056e-47a9-b4e6-2a783da859a0
X-WR-CALDESC:Local nonprofit - its a party for YOU!! Come enjoy snacks\, ca
 maraderie\, and the opportunity to relax with your peers!
X-WR-RELCALID:eba6700c3cf53de683ac613ba975c105
X-WR-TIMEZONE:America/Anchorage
BEGIN:VTIMEZONE
TZID:America/Anchorage
BEGIN:STANDARD
TZNAME:AKST
DTSTART:20241103T020000
TZOFFSETFROM:-0800
TZOFFSETTO:-0900
RDATE:20251102T020000
RDATE:20261101T020000
END:STANDARD
BEGIN:DAYLIGHT
TZNAME:AKDT
DTSTART:20250309T020000
TZOFFSETFROM:-0900
TZOFFSETTO:-0800
RDATE:20260308T020000
END:DAYLIGHT
END:VTIMEZONE
BEGIN:VEVENT
UID:8bef87b0-92d0-46ac-8dc7-2baba4880750
DTSTAMP:20260421T060356Z
DESCRIPTION:Local nonprofit - its a party for YOU!! Come enjoy snacks\, cam
 araderie\, and the opportunity to relax with your peers!
DTSTART;TZID=America/Anchorage:20250510T130000
DTEND;TZID=America/Anchorage:20250510T150000
LOCATION:Rendezvous Senior Day Center
SUMMARY:A Graden Party for Nonprofit staff\, volunteers\, and Board members
 !
END:VEVENT
END:VCALENDAR
