BEGIN:VCALENDAR
VERSION:2.0
PRODID:-//www.ketchikanarts.org//NONSGML kigkonsult.se iCalcreator 2.30.10/
 /
CALSCALE:GREGORIAN
METHOD:PUBLISH
UID:a412c0cc-5d7b-4d16-bc11-ffde936e0e03
X-WR-CALDESC:Join us for our monthly meeting (regular date subject to chang
 e due to the Christmas Holiday and annual Quilt Show).
X-WR-RELCALID:62c912b47b5e8edc0ed8a55278a40362
X-WR-TIMEZONE:America/Anchorage
BEGIN:VTIMEZONE
TZID:America/Anchorage
BEGIN:STANDARD
TZNAME:AKST
DTSTART:20231105T020000
TZOFFSETFROM:-0800
TZOFFSETTO:-0900
RDATE:20241103T020000
RDATE:20251102T020000
END:STANDARD
BEGIN:DAYLIGHT
TZNAME:AKDT
DTSTART:20240310T020000
TZOFFSETFROM:-0900
TZOFFSETTO:-0800
RDATE:20250309T020000
END:DAYLIGHT
END:VTIMEZONE
BEGIN:VEVENT
UID:00d6697f-53a9-4bfe-9f26-fa7d44b1c4cc
DTSTAMP:20260421T220928Z
DESCRIPTION:Join us for our monthly meeting (regular date subject to change
  due to the Christmas Holiday and annual Quilt Show).
DTSTART;TZID=America/Anchorage:20240625T183000
DTEND;TZID=America/Anchorage:20240625T200000
LOCATION:Holy Name Parish Hall
SUMMARY:Rainy Day Quilt Guild Meeting
END:VEVENT
END:VCALENDAR
