BEGIN:VCALENDAR
VERSION:2.0
PRODID:-//www.ketchikanarts.org//NONSGML kigkonsult.se iCalcreator 2.30.10/
 /
CALSCALE:GREGORIAN
METHOD:PUBLISH
UID:936bce67-a9ab-4d54-a4e7-e26c9976d60d
X-WR-CALDESC:Join us for our monthly meeting (regular date subject to chang
 e due to the Christmas Holiday and annual Quilt Show).
X-WR-RELCALID:f21d6d4db2c5eeaa82c58aca87879fdc
X-WR-TIMEZONE:America/Anchorage
BEGIN:VTIMEZONE
TZID:America/Anchorage
BEGIN:STANDARD
TZNAME:AKST
DTSTART:20231105T020000
TZOFFSETFROM:-0800
TZOFFSETTO:-0900
RDATE:20241103T020000
END:STANDARD
BEGIN:DAYLIGHT
TZNAME:AKDT
DTSTART:20240310T020000
TZOFFSETFROM:-0900
TZOFFSETTO:-0800
RDATE:20250309T020000
END:DAYLIGHT
END:VTIMEZONE
BEGIN:VEVENT
UID:2518355f-f07a-4966-bf01-ce84fb827083
DTSTAMP:20260422T010516Z
DESCRIPTION:Join us for our monthly meeting (regular date subject to change
  due to the Christmas Holiday and annual Quilt Show).
DTSTART;TZID=America/Anchorage:20240423T183000
DTEND;TZID=America/Anchorage:20240423T200000
LOCATION:Holy Name Parish Hall
SUMMARY:Rainy Day Quilt Guild Meeting
END:VEVENT
END:VCALENDAR
