BEGIN:VCALENDAR
VERSION:2.0
PRODID:-//www.ketchikanarts.org//NONSGML kigkonsult.se iCalcreator 2.30.10/
 /
CALSCALE:GREGORIAN
METHOD:PUBLISH
UID:3c7cbc88-2078-48b1-8e4d-3dee463ee9ab
X-WR-CALDESC:Join us for our monthly meeting (regular date subject to chang
 e due to the Christmas Holiday and annual Quilt Show).
X-WR-RELCALID:52549aaaf89550cff2b72e7a7fd55e61
X-WR-TIMEZONE:America/Anchorage
BEGIN:VTIMEZONE
TZID:America/Anchorage
BEGIN:STANDARD
TZNAME:AKST
DTSTART:20231105T020000
TZOFFSETFROM:-0800
TZOFFSETTO:-0900
RDATE:20241103T020000
END:STANDARD
BEGIN:DAYLIGHT
TZNAME:AKDT
DTSTART:20240310T020000
TZOFFSETFROM:-0900
TZOFFSETTO:-0800
RDATE:20250309T020000
END:DAYLIGHT
END:VTIMEZONE
BEGIN:VEVENT
UID:4e6e4d2d-ec2c-42d6-99d9-29be8238f977
DTSTAMP:20260422T024907Z
DESCRIPTION:Join us for our monthly meeting (regular date subject to change
  due to the Christmas Holiday and annual Quilt Show).
DTSTART;TZID=America/Anchorage:20240326T183000
DTEND;TZID=America/Anchorage:20240326T200000
LOCATION:Holy Name Parish Hall
SUMMARY:Rainy Day Quilt Guild Meeting
END:VEVENT
END:VCALENDAR
