BEGIN:VCALENDAR
VERSION:2.0
PRODID:-//www.ketchikanarts.org//NONSGML kigkonsult.se iCalcreator 2.30.10/
 /
CALSCALE:GREGORIAN
METHOD:PUBLISH
UID:2c631674-b8a6-4888-8b21-4c554b210ddb
X-WR-CALDESC:Monthly Board of Directors Meeting. Currently all KAAHC Board 
 meetings are held in person. If you would like to attend a Board meeting p
 lease contact Kathleen Light for information. kathleenl@ketchikanarts.org
X-WR-RELCALID:047737c800abf57d27e0cab87a3f3abf
X-WR-TIMEZONE:America/Anchorage
BEGIN:VTIMEZONE
TZID:America/Anchorage
BEGIN:STANDARD
TZNAME:AKST
DTSTART:20231105T020000
TZOFFSETFROM:-0800
TZOFFSETTO:-0900
RDATE:20241103T020000
END:STANDARD
BEGIN:DAYLIGHT
TZNAME:AKDT
DTSTART:20230312T020000
TZOFFSETFROM:-0900
TZOFFSETTO:-0800
RDATE:20240310T020000
RDATE:20250309T020000
END:DAYLIGHT
END:VTIMEZONE
BEGIN:VEVENT
UID:a7dbfe6d-eee6-42b8-be75-9e06044bb053
DTSTAMP:20260422T061409Z
DESCRIPTION:Monthly Board of Directors Meeting. Currently all KAAHC Board m
 eetings are held in person. If you would like to attend a Board meeting pl
 ease contact Kathleen Light for information. kathleenl@ketchikanarts.org
DTSTART;TZID=America/Anchorage:20240117T173000
DTEND;TZID=America/Anchorage:20240117T190000
LOCATION:330 Main Street\, Ketchikan\, AK 99901 US
SUMMARY:Ketchikan Area Arts and Humanities Board of Directors Meeting
END:VEVENT
END:VCALENDAR
