BEGIN:VCALENDAR
VERSION:2.0
PRODID:-//www.ketchikanarts.org//NONSGML kigkonsult.se iCalcreator 2.30.10/
 /
CALSCALE:GREGORIAN
METHOD:PUBLISH
UID:5df15c12-f4e3-445c-8fcd-222344d3ef08
X-WR-CALDESC:Join us for our monthly meeting!
X-WR-RELCALID:8c7f5e53735d8f0ae3598bbcf81119df
X-WR-TIMEZONE:America/Anchorage
BEGIN:VTIMEZONE
TZID:America/Anchorage
BEGIN:STANDARD
TZNAME:AKST
DTSTART:20221106T020000
TZOFFSETFROM:-0800
TZOFFSETTO:-0900
RDATE:20231105T020000
RDATE:20241103T020000
END:STANDARD
BEGIN:DAYLIGHT
TZNAME:AKDT
DTSTART:20230312T020000
TZOFFSETFROM:-0900
TZOFFSETTO:-0800
RDATE:20240310T020000
END:DAYLIGHT
END:VTIMEZONE
BEGIN:VEVENT
UID:e799e2f5-db9f-47e3-a619-03b3269f60ef
DTSTAMP:20260422T185256Z
DESCRIPTION:Join us for our monthly meeting!
DTSTART;TZID=America/Anchorage:20230523T183000
DTEND;TZID=America/Anchorage:20230523T200000
LOCATION:Holy Name Parish Hall
SUMMARY:Rainy Day Quilt Guild Meeting
END:VEVENT
END:VCALENDAR
