BEGIN:VCALENDAR
VERSION:2.0
PRODID:-//www.ketchikanarts.org//NONSGML kigkonsult.se iCalcreator 2.30.10/
 /
CALSCALE:GREGORIAN
METHOD:PUBLISH
UID:bb9d6fb1-8b99-49bd-96b1-c1864ab21015
X-WR-CALDESC:Join us for our monthly meeting!
X-WR-RELCALID:5c9fa66d09d3e1d937cd35038d03f0a7
X-WR-TIMEZONE:America/Anchorage
BEGIN:VTIMEZONE
TZID:America/Anchorage
BEGIN:STANDARD
TZNAME:AKST
DTSTART:20221106T020000
TZOFFSETFROM:-0800
TZOFFSETTO:-0900
RDATE:20231105T020000
END:STANDARD
BEGIN:DAYLIGHT
TZNAME:AKDT
DTSTART:20230312T020000
TZOFFSETFROM:-0900
TZOFFSETTO:-0800
RDATE:20240310T020000
END:DAYLIGHT
END:VTIMEZONE
BEGIN:VEVENT
UID:2f4846ee-8149-456e-bf6a-01dc1eb4ce22
DTSTAMP:20260422T202714Z
DESCRIPTION:Join us for our monthly meeting!
DTSTART;TZID=America/Anchorage:20230425T183000
DTEND;TZID=America/Anchorage:20230425T200000
LOCATION:Holy Name Parish Hall
SUMMARY:Rainy Day Quilt Guild Meeting
END:VEVENT
END:VCALENDAR
