BEGIN:VCALENDAR
VERSION:2.0
PRODID:-//www.ketchikanarts.org//NONSGML kigkonsult.se iCalcreator 2.30.10/
 /
CALSCALE:GREGORIAN
METHOD:PUBLISH
UID:1f6641ef-5cbe-42de-8e1a-fb34442de5b2
X-WR-CALDESC:The KCCB Board meets the 3rd Monday of the month prior to rehe
 arsal\, at the Ketchikan First Assembly of God.
X-WR-RELCALID:4e062961fc0bfa5d5491582ee3796a75
X-WR-TIMEZONE:America/Anchorage
BEGIN:VTIMEZONE
TZID:America/Anchorage
BEGIN:STANDARD
TZNAME:AKST
DTSTART:20221106T020000
TZOFFSETFROM:-0800
TZOFFSETTO:-0900
RDATE:20231105T020000
END:STANDARD
BEGIN:DAYLIGHT
TZNAME:AKDT
DTSTART:20230312T020000
TZOFFSETFROM:-0900
TZOFFSETTO:-0800
RDATE:20240310T020000
END:DAYLIGHT
END:VTIMEZONE
BEGIN:VEVENT
UID:6c22b8d9-0f54-45f4-b406-67d2260cec01
DTSTAMP:20260422T221228Z
DESCRIPTION:The KCCB Board meets the 3rd Monday of the month prior to rehea
 rsal\, at the Ketchikan First Assembly of God.
DTSTART;TZID=America/Anchorage:20230320T173000
DTEND;TZID=America/Anchorage:20230320T183000
LOCATION:3225 Fairview Ave\, Ketchikan\, AK 99001 US
SUMMARY:Ketchikan Community Concert Band Board Meeting
END:VEVENT
END:VCALENDAR
