BEGIN:VCALENDAR
VERSION:2.0
PRODID:-//www.ketchikanarts.org//NONSGML kigkonsult.se iCalcreator 2.30.10/
 /
CALSCALE:GREGORIAN
METHOD:PUBLISH
UID:9d84590a-273c-431c-8030-d9d952e179a7
X-WR-CALDESC:Join us for our monthly meeting (regular date changed due to t
 he Thanksgiving Holiday). Please bring non-perishable food items to be don
 ated to Love in Action's Thanksgiving food baskets.
X-WR-RELCALID:6e1a282ac95a704b79b3994b2ba224c9
X-WR-TIMEZONE:America/Anchorage
BEGIN:VTIMEZONE
TZID:America/Anchorage
BEGIN:STANDARD
TZNAME:AKST
DTSTART:20221106T020000
TZOFFSETFROM:-0800
TZOFFSETTO:-0900
RDATE:20231105T020000
END:STANDARD
BEGIN:DAYLIGHT
TZNAME:AKDT
DTSTART:20220313T020000
TZOFFSETFROM:-0900
TZOFFSETTO:-0800
RDATE:20230312T020000
RDATE:20240310T020000
END:DAYLIGHT
END:VTIMEZONE
BEGIN:VEVENT
UID:63cac84d-8328-42ac-b6cd-6b45232d7826
DTSTAMP:20260423T042950Z
DESCRIPTION:Join us for our monthly meeting (regular date changed due to th
 e Thanksgiving Holiday). Please bring non-perishable food items to be dona
 ted to Love in Action's Thanksgiving food baskets.
DTSTART;TZID=America/Anchorage:20221115T183000
DTEND;TZID=America/Anchorage:20221115T200000
LOCATION:Holy Name Parish Hall
SUMMARY:Rainy Day Quilt Guild Meeting
END:VEVENT
END:VCALENDAR
