BEGIN:VCALENDAR
VERSION:2.0
PRODID:-//www.ketchikanarts.org//NONSGML kigkonsult.se iCalcreator 2.30.10/
 /
CALSCALE:GREGORIAN
METHOD:PUBLISH
UID:7e4d1177-4dc8-4645-9692-415962c064ff
X-WR-CALDESC:
X-WR-RELCALID:d19caa8a544a0230ed54ce566a7088da
X-WR-TIMEZONE:America/Anchorage
BEGIN:VTIMEZONE
TZID:America/Anchorage
BEGIN:STANDARD
TZNAME:AKST
DTSTART:20211107T020000
TZOFFSETFROM:-0800
TZOFFSETTO:-0900
RDATE:20221106T020000
RDATE:20231105T020000
END:STANDARD
BEGIN:DAYLIGHT
TZNAME:AKDT
DTSTART:20220313T020000
TZOFFSETFROM:-0900
TZOFFSETTO:-0800
RDATE:20230312T020000
RDATE:20240310T020000
END:DAYLIGHT
END:VTIMEZONE
BEGIN:VEVENT
UID:05c2e35a-eafa-42c2-9064-0bde84c09171
DTSTAMP:20260423T055904Z
DESCRIPTION:
DTSTART;TZID=America/Anchorage:20221012T180000
DTEND;TZID=America/Anchorage:20221012T190000
LOCATION:Ketchikan Public Library
SUMMARY:Library Advisory Meeting
END:VEVENT
END:VCALENDAR
