BEGIN:VCALENDAR
VERSION:2.0
PRODID:-//www.ketchikanarts.org//NONSGML kigkonsult.se iCalcreator 2.30.10/
 /
CALSCALE:GREGORIAN
METHOD:PUBLISH
UID:ffcf2b93-1e36-454d-a87c-20e23755aea8
X-WR-CALDESC:SEPTEMBER 19\nPre-conference day: Online-only sessions\n\nSEPT
 EMBER 21–24\nSeptember 21: Workshops and Angel Project & the Opening Event
 \nSeptember 22–23: Session Days and Evening Events\nSeptember 24: Tours of
  the local communities\nTHEME\nTransitions: Navigating Change and Moving F
 orward\nDESCRIPTION\nThe museum field is changing. Embrace these challenge
 s together and move forward with our communities.\n\nThe #MA2022 conferenc
 e will be held both virtually and in person in Valdez.
X-WR-RELCALID:f50a8de25afebc9426bc5bf364ec74fe
X-WR-TIMEZONE:America/Anchorage
BEGIN:VTIMEZONE
TZID:America/Anchorage
BEGIN:STANDARD
TZNAME:AKST
DTSTART:20211107T020000
TZOFFSETFROM:-0800
TZOFFSETTO:-0900
RDATE:20221106T020000
RDATE:20231105T020000
END:STANDARD
BEGIN:DAYLIGHT
TZNAME:AKDT
DTSTART:20220313T020000
TZOFFSETFROM:-0900
TZOFFSETTO:-0800
RDATE:20230312T020000
RDATE:20240310T020000
END:DAYLIGHT
END:VTIMEZONE
BEGIN:VEVENT
UID:70a7c42f-c0bd-4aa8-8cdd-41753f05559f
DTSTAMP:20260423T073212Z
DESCRIPTION:SEPTEMBER 19\nPre-conference day: Online-only sessions\n\nSEPTE
 MBER 21–24\nSeptember 21: Workshops and Angel Project & the Opening Event
 \nSeptember 22–23: Session Days and Evening Events\nSeptember 24: Tours of
  the local communities\nTHEME\nTransitions: Navigating Change and Moving F
 orward\nDESCRIPTION\nThe museum field is changing. Embrace these challenge
 s together and move forward with our communities.\n\nThe #MA2022 conferenc
 e will be held both virtually and in person in Valdez.
DTSTART;TZID=America/Anchorage:20220923T090000
DTEND;TZID=America/Anchorage:20220923T200000
LOCATION:Valdez\, AK
SUMMARY:Museums Alaska Conference
END:VEVENT
END:VCALENDAR
