BEGIN:VCALENDAR
VERSION:2.0
PRODID:-//www.ketchikanarts.org//NONSGML kigkonsult.se iCalcreator 2.30.10/
 /
CALSCALE:GREGORIAN
METHOD:PUBLISH
UID:26326778-e481-4b18-9583-4a19a2a90f8b
X-WR-CALDESC:Bring your ukulele and have some fun playing with the group.\n
 Meets on Wednesdays at 3:45pm at the Inn at Creek Street!
X-WR-RELCALID:94dad78d42e5b2604a2bb545fdb4a799
X-WR-TIMEZONE:America/Anchorage
BEGIN:VTIMEZONE
TZID:America/Anchorage
BEGIN:STANDARD
TZNAME:AKST
DTSTART:20281105T020000
TZOFFSETFROM:-0800
TZOFFSETTO:-0900
RDATE:20291104T020000
RDATE:20301103T020000
END:STANDARD
BEGIN:DAYLIGHT
TZNAME:AKDT
DTSTART:20290311T020000
TZOFFSETFROM:-0900
TZOFFSETTO:-0800
RDATE:20300310T020000
RDATE:20310309T020000
END:DAYLIGHT
END:VTIMEZONE
BEGIN:VEVENT
UID:520e8093-4052-4b14-bfdd-2ae8f82a96d3
DTSTAMP:20260425T031921Z
DESCRIPTION:Bring your ukulele and have some fun playing with the group.\nM
 eets on Wednesdays at 3:45pm at the Inn at Creek Street!
DTSTART;TZID=America/Anchorage:20291024T154500
DTEND;TZID=America/Anchorage:20291024T164500
LOCATION:Bayside Hotel Lobby
SUMMARY:The Ukelele Group
END:VEVENT
END:VCALENDAR
