BEGIN:VCALENDAR
VERSION:2.0
PRODID:-//www.ketchikanarts.org//NONSGML kigkonsult.se iCalcreator 2.30.10/
 /
CALSCALE:GREGORIAN
METHOD:PUBLISH
UID:6cbaba47-89d1-4e0c-b7ff-b0f5d34491bf
X-WR-CALDESC:Bring your ukulele and have some fun playing with the group.\n
 Meets on Wednesdays at 3:45pm at the Inn at Creek Street!
X-WR-RELCALID:440330052993b33252b88e402d61dd10
X-WR-TIMEZONE:America/Anchorage
BEGIN:VTIMEZONE
TZID:America/Anchorage
BEGIN:STANDARD
TZNAME:AKST
DTSTART:20281105T020000
TZOFFSETFROM:-0800
TZOFFSETTO:-0900
RDATE:20291104T020000
END:STANDARD
BEGIN:DAYLIGHT
TZNAME:AKDT
DTSTART:20280312T020000
TZOFFSETFROM:-0900
TZOFFSETTO:-0800
RDATE:20290311T020000
RDATE:20300310T020000
END:DAYLIGHT
END:VTIMEZONE
BEGIN:VEVENT
UID:26498723-4eb9-4acd-aef9-7e508791cdfd
DTSTAMP:20260424T142856Z
DESCRIPTION:Bring your ukulele and have some fun playing with the group.\nM
 eets on Wednesdays at 3:45pm at the Inn at Creek Street!
DTSTART;TZID=America/Anchorage:20290124T154500
DTEND;TZID=America/Anchorage:20290124T164500
LOCATION:Bayside Hotel Lobby
SUMMARY:The Ukelele Group
END:VEVENT
END:VCALENDAR
