BEGIN:VCALENDAR
VERSION:2.0
PRODID:-//www.ketchikanarts.org//NONSGML kigkonsult.se iCalcreator 2.30.10/
 /
CALSCALE:GREGORIAN
METHOD:PUBLISH
UID:81e6d657-fead-4618-ad3d-73aaad8f28b6
X-WR-CALDESC:We strive to promote cooperation and an exchange of ideas amon
 g those interested in or engaged in quilt making\; to instruct members in 
 methods and techniques and to inspire personal achievement\; and to encour
 age and maintain high standards of design and technique in quilt making.\n
 \nAll levels of quilters are invited and encouraged to attend!
X-WR-RELCALID:c2645608d415d8fbb238bae8af73acd1
X-WR-TIMEZONE:America/Anchorage
BEGIN:VTIMEZONE
TZID:America/Anchorage
BEGIN:STANDARD
TZNAME:AKST
DTSTART:20271107T020000
TZOFFSETFROM:-0800
TZOFFSETTO:-0900
RDATE:20281105T020000
END:STANDARD
BEGIN:DAYLIGHT
TZNAME:AKDT
DTSTART:20270314T020000
TZOFFSETFROM:-0900
TZOFFSETTO:-0800
RDATE:20280312T020000
RDATE:20290311T020000
END:DAYLIGHT
END:VTIMEZONE
BEGIN:VEVENT
UID:c7d46ab0-4f5e-4443-951b-68f6d9fd33c1
DTSTAMP:20260423T200611Z
DESCRIPTION:We strive to promote cooperation and an exchange of ideas among
  those interested in or engaged in quilt making\; to instruct members in m
 ethods and techniques and to inspire personal achievement\; and to encoura
 ge and maintain high standards of design and technique in quilt making.\n
 \nAll levels of quilters are invited and encouraged to attend!
DTSTART;TZID=America/Anchorage:20280125T183000
DTEND;TZID=America/Anchorage:20280125T200000
LOCATION:Holy Name Church Parish Hall
SUMMARY:Rainy Day Quilters Meeting!
END:VEVENT
END:VCALENDAR
