BEGIN:VCALENDAR
VERSION:2.0
PRODID:-//www.ketchikanarts.org//NONSGML kigkonsult.se iCalcreator 2.30.10/
 /
CALSCALE:GREGORIAN
METHOD:PUBLISH
UID:69e03869-194f-4a7a-9572-08c0a65c3007
X-WR-CALDESC:We strive to promote cooperation and an exchange of ideas amon
 g those interested in or engaged in quilt making\; to instruct members in 
 methods and techniques and to inspire personal achievement\; and to encour
 age and maintain high standards of design and technique in quilt making.\n
 \nAll levels of quilters are invited and encouraged to attend!
X-WR-RELCALID:e2fcaee7c49abd4b2a26c814b12419ea
X-WR-TIMEZONE:America/Anchorage
BEGIN:VTIMEZONE
TZID:America/Anchorage
BEGIN:STANDARD
TZNAME:AKST
DTSTART:20261101T020000
TZOFFSETFROM:-0800
TZOFFSETTO:-0900
RDATE:20271107T020000
END:STANDARD
BEGIN:DAYLIGHT
TZNAME:AKDT
DTSTART:20260308T020000
TZOFFSETFROM:-0900
TZOFFSETTO:-0800
RDATE:20270314T020000
RDATE:20280312T020000
END:DAYLIGHT
END:VTIMEZONE
BEGIN:VEVENT
UID:a9e94f26-7041-4e3a-8da2-3c12ee23e067
DTSTAMP:20260423T002717Z
DESCRIPTION:We strive to promote cooperation and an exchange of ideas among
  those interested in or engaged in quilt making\; to instruct members in m
 ethods and techniques and to inspire personal achievement\; and to encoura
 ge and maintain high standards of design and technique in quilt making.\n
 \nAll levels of quilters are invited and encouraged to attend!
DTSTART;TZID=America/Anchorage:20270126T183000
DTEND;TZID=America/Anchorage:20270126T200000
LOCATION:Holy Name Church Parish Hall
SUMMARY:Rainy Day Quilters Meeting!
END:VEVENT
END:VCALENDAR
