BEGIN:VCALENDAR
VERSION:2.0
PRODID:-//www.ketchikanarts.org//NONSGML kigkonsult.se iCalcreator 2.30.10/
 /
CALSCALE:GREGORIAN
METHOD:PUBLISH
UID:e6c21a52-3f32-4699-a88b-75c869414b36
X-WR-CALDESC:Bring your ukulele and have some fun playing with the group.\n
 Meets on Wednesdays at 3:45pm at the Inn at Creek Street!
X-WR-RELCALID:0d63a8b4b9841c98a0399d09e3a606ce
X-WR-TIMEZONE:America/Anchorage
BEGIN:VTIMEZONE
TZID:America/Anchorage
BEGIN:STANDARD
TZNAME:AKST
DTSTART:20261101T020000
TZOFFSETFROM:-0800
TZOFFSETTO:-0900
RDATE:20271107T020000
END:STANDARD
BEGIN:DAYLIGHT
TZNAME:AKDT
DTSTART:20260308T020000
TZOFFSETFROM:-0900
TZOFFSETTO:-0800
RDATE:20270314T020000
RDATE:20280312T020000
END:DAYLIGHT
END:VTIMEZONE
BEGIN:VEVENT
UID:92ca6f93-c3eb-4b0d-8add-f595b9f3211f
DTSTAMP:20260423T002418Z
DESCRIPTION:Bring your ukulele and have some fun playing with the group.\nM
 eets on Wednesdays at 3:45pm at the Inn at Creek Street!
DTSTART;TZID=America/Anchorage:20270113T154500
DTEND;TZID=America/Anchorage:20270113T164500
LOCATION:Bayside Hotel Lobby
SUMMARY:The Ukelele Group
END:VEVENT
END:VCALENDAR
