BEGIN:VCALENDAR
VERSION:2.0
PRODID:-//www.ketchikanarts.org//NONSGML kigkonsult.se iCalcreator 2.30.10/
 /
CALSCALE:GREGORIAN
METHOD:PUBLISH
UID:214d3739-7ec1-421a-80bd-5e41ae05c75e
X-WR-CALDESC:We strive to promote cooperation and an exchange of ideas amon
 g those interested in or engaged in quilt making\; to instruct members in 
 methods and techniques and to inspire personal achievement\; and to encour
 age and maintain high standards of design and technique in quilt making.\n
 \nAll levels of quilters are invited and encouraged to attend!
X-WR-RELCALID:bd6078e8144c2373dc5235b1f4aea9e2
X-WR-TIMEZONE:America/Anchorage
BEGIN:VTIMEZONE
TZID:America/Anchorage
BEGIN:STANDARD
TZNAME:AKST
DTSTART:20251102T020000
TZOFFSETFROM:-0800
TZOFFSETTO:-0900
RDATE:20261101T020000
RDATE:20271107T020000
END:STANDARD
BEGIN:DAYLIGHT
TZNAME:AKDT
DTSTART:20260308T020000
TZOFFSETFROM:-0900
TZOFFSETTO:-0800
RDATE:20270314T020000
RDATE:20280312T020000
END:DAYLIGHT
END:VTIMEZONE
BEGIN:VEVENT
UID:dbf85b76-e9a9-4d2a-b336-78507b9801f0
DTSTAMP:20260422T200942Z
DESCRIPTION:We strive to promote cooperation and an exchange of ideas among
  those interested in or engaged in quilt making\; to instruct members in m
 ethods and techniques and to inspire personal achievement\; and to encoura
 ge and maintain high standards of design and technique in quilt making.\n
 \nAll levels of quilters are invited and encouraged to attend!
DTSTART;TZID=America/Anchorage:20261027T183000
DTEND;TZID=America/Anchorage:20261027T200000
LOCATION:Holy Name Church Parish Hall
SUMMARY:Rainy Day Quilters Meeting!
END:VEVENT
END:VCALENDAR
