BEGIN:VCALENDAR
VERSION:2.0
PRODID:-//www.ketchikanarts.org//NONSGML kigkonsult.se iCalcreator 2.30.10/
 /
CALSCALE:GREGORIAN
METHOD:PUBLISH
UID:1223cc74-8c1f-43ca-95f9-4d0033f9dfaa
X-WR-CALDESC:
X-WR-RELCALID:88f9660dbf4a30825bd95fa051de4772
X-WR-TIMEZONE:America/Anchorage
BEGIN:VTIMEZONE
TZID:America/Anchorage
BEGIN:STANDARD
TZNAME:AKST
DTSTART:20251102T020000
TZOFFSETFROM:-0800
TZOFFSETTO:-0900
RDATE:20261101T020000
END:STANDARD
BEGIN:DAYLIGHT
TZNAME:AKDT
DTSTART:20260308T020000
TZOFFSETFROM:-0900
TZOFFSETTO:-0800
RDATE:20270314T020000
END:DAYLIGHT
END:VTIMEZONE
BEGIN:VEVENT
UID:3101b3b3-ca90-4ddd-823d-be7a6938914c
DTSTAMP:20260420T113440Z
DESCRIPTION:
DTSTART;TZID=America/Anchorage:20260410T140000
DTEND;TZID=America/Anchorage:20260410T160000
LOCATION:Craig Rec Center
SUMMARY:Glass Hanging Class - Craig\, AK
END:VEVENT
END:VCALENDAR
