BEGIN:VCALENDAR
VERSION:2.0
PRODID:-//www.ketchikanarts.org//NONSGML kigkonsult.se iCalcreator 2.30.10/
 /
CALSCALE:GREGORIAN
METHOD:PUBLISH
UID:7632d3a6-1b93-4997-8fcb-2713188feb09
X-WR-CALDESC:Sip & Paint with Spence Hasty
X-WR-RELCALID:2277d80678a91a38e24ead945dc8ba16
X-WR-TIMEZONE:America/Anchorage
BEGIN:VTIMEZONE
TZID:America/Anchorage
BEGIN:STANDARD
TZNAME:AKST
DTSTART:20251102T020000
TZOFFSETFROM:-0800
TZOFFSETTO:-0900
RDATE:20261101T020000
END:STANDARD
BEGIN:DAYLIGHT
TZNAME:AKDT
DTSTART:20260308T020000
TZOFFSETFROM:-0900
TZOFFSETTO:-0800
RDATE:20270314T020000
END:DAYLIGHT
END:VTIMEZONE
BEGIN:VEVENT
UID:9265e4d9-5867-436a-966d-b200558dd441
DTSTAMP:20260420T131419Z
DESCRIPTION:Sip & Paint with Spence Hasty
DTSTART;TZID=America/Anchorage:20260319T173000
DTEND;TZID=America/Anchorage:20260319T200000
LOCATION:Cape Fox Lodge
SUMMARY:Paint & Sip
END:VEVENT
END:VCALENDAR
