BEGIN:VCALENDAR
VERSION:2.0
PRODID:-//www.ketchikanarts.org//NONSGML kigkonsult.se iCalcreator 2.30.10/
 /
CALSCALE:GREGORIAN
METHOD:PUBLISH
UID:381e6b50-01ea-49c2-ada3-c3459bb24fc6
X-WR-CALDESC:
X-WR-RELCALID:224d3614e4247b84022c4d6807ea717b
X-WR-TIMEZONE:America/Anchorage
BEGIN:VTIMEZONE
TZID:America/Anchorage
BEGIN:STANDARD
TZNAME:AKST
DTSTART:20251102T020000
TZOFFSETFROM:-0800
TZOFFSETTO:-0900
RDATE:20261101T020000
END:STANDARD
BEGIN:DAYLIGHT
TZNAME:AKDT
DTSTART:20250309T020000
TZOFFSETFROM:-0900
TZOFFSETTO:-0800
RDATE:20260308T020000
RDATE:20270314T020000
END:DAYLIGHT
END:VTIMEZONE
BEGIN:VEVENT
UID:7b2aaae9-416b-48b2-bede-8754f1a26433
DTSTAMP:20260420T161800Z
DESCRIPTION:
DTSTART;TZID=America/Anchorage:20260122T173000
DTEND;TZID=America/Anchorage:20260122T190000
LOCATION:Cape Fox Lodge
SUMMARY:Sip & Paint with Spencer Hasty
END:VEVENT
END:VCALENDAR
