BEGIN:VCALENDAR
VERSION:2.0
PRODID:-//www.ketchikanarts.org//NONSGML kigkonsult.se iCalcreator 2.30.10/
 /
CALSCALE:GREGORIAN
METHOD:PUBLISH
UID:5be2d4c1-6166-4cae-8cf6-70d9204c4d5a
X-WR-CALDESC:Rehearsals are every Tuesday from 6:30 to 8:30pm\n\nHeld at th
 e First United Methodist Church - 400 Main Street\n\nThe Winter Concerts w
 ill be:\n\nSunday\, December 7th\, 2025\, 3pm\nWednesday\, December 10th\,
  2025\, 7pm\nFirst United Methodist Church
X-WR-RELCALID:96fc9bb9a47df7e12b6659a8b7546132
X-WR-TIMEZONE:America/Anchorage
BEGIN:VTIMEZONE
TZID:America/Anchorage
BEGIN:STANDARD
TZNAME:AKST
DTSTART:20251102T020000
TZOFFSETFROM:-0800
TZOFFSETTO:-0900
RDATE:20261101T020000
END:STANDARD
BEGIN:DAYLIGHT
TZNAME:AKDT
DTSTART:20250309T020000
TZOFFSETFROM:-0900
TZOFFSETTO:-0800
RDATE:20260308T020000
RDATE:20270314T020000
END:DAYLIGHT
END:VTIMEZONE
BEGIN:VEVENT
UID:99396d94-123c-453f-b28a-2ad0964b4761
DTSTAMP:20260420T193527Z
DESCRIPTION:Rehearsals are every Tuesday from 6:30 to 8:30pm\n\nHeld at the
  First United Methodist Church - 400 Main Street\n\nThe Winter Concerts wi
 ll be:\n\nSunday\, December 7th\, 2025\, 3pm\nWednesday\, December 10th\, 
 2025\, 7pm\nFirst United Methodist Church
DTSTART;TZID=America/Anchorage:20251125T183000
DTEND;TZID=America/Anchorage:20251125T203000
LOCATION:First United Methodist Church - 400 Main Street
SUMMARY:Ketchikan Community Chorus Rehearsal
END:VEVENT
END:VCALENDAR
