BEGIN:VCALENDAR
VERSION:2.0
PRODID:-//www.ketchikanarts.org//NONSGML kigkonsult.se iCalcreator 2.30.10/
 /
CALSCALE:GREGORIAN
METHOD:PUBLISH
UID:1fdd30de-4bd5-4b9f-ae8d-1e53b2d93536
X-WR-CALDESC:Rehearsals are every Tuesday from 6:30 to 8:30pm\n\nHeld at th
 e First United Methodist Church - 400 Main Street\n\nThe Winter Concerts w
 ill be:\n\nSunday\, December 7th\, 2025\, 3pm\nWednesday\, December 10th\,
  2025\, 7pm\nFirst United Methodist Church
X-WR-RELCALID:e9f9b6cb3c9e25b39889f44e98f99be9
X-WR-TIMEZONE:America/Anchorage
BEGIN:VTIMEZONE
TZID:America/Anchorage
BEGIN:STANDARD
TZNAME:AKST
DTSTART:20241103T020000
TZOFFSETFROM:-0800
TZOFFSETTO:-0900
RDATE:20251102T020000
RDATE:20261101T020000
END:STANDARD
BEGIN:DAYLIGHT
TZNAME:AKDT
DTSTART:20250309T020000
TZOFFSETFROM:-0900
TZOFFSETTO:-0800
RDATE:20260308T020000
RDATE:20270314T020000
END:DAYLIGHT
END:VTIMEZONE
BEGIN:VEVENT
UID:1768e474-6f96-4dfe-ae8e-6bd0646744cb
DTSTAMP:20260420T211138Z
DESCRIPTION:Rehearsals are every Tuesday from 6:30 to 8:30pm\n\nHeld at the
  First United Methodist Church - 400 Main Street\n\nThe Winter Concerts wi
 ll be:\n\nSunday\, December 7th\, 2025\, 3pm\nWednesday\, December 10th\, 
 2025\, 7pm\nFirst United Methodist Church
DTSTART;TZID=America/Anchorage:20251021T183000
DTEND;TZID=America/Anchorage:20251021T203000
LOCATION:First United Methodist Church - 400 Main Street
SUMMARY:Ketchikan Community Chorus Rehearsal
END:VEVENT
END:VCALENDAR
