BEGIN:VCALENDAR
VERSION:2.0
PRODID:-//www.ketchikanarts.org//NONSGML kigkonsult.se iCalcreator 2.30.10/
 /
CALSCALE:GREGORIAN
METHOD:PUBLISH
UID:9c869b3f-cea2-4d6b-a792-0f308fa01fe5
X-WR-CALDESC:KCCB rehearses for the December 21st\, 2025\, 3pm performance 
 in the Kayhi Auditorium!!
X-WR-RELCALID:62bb8ef8405d0adee1542181fd2b1ca3
X-WR-TIMEZONE:America/Anchorage
BEGIN:VTIMEZONE
TZID:America/Anchorage
BEGIN:STANDARD
TZNAME:AKST
DTSTART:20241103T020000
TZOFFSETFROM:-0800
TZOFFSETTO:-0900
RDATE:20251102T020000
RDATE:20261101T020000
END:STANDARD
BEGIN:DAYLIGHT
TZNAME:AKDT
DTSTART:20250309T020000
TZOFFSETFROM:-0900
TZOFFSETTO:-0800
RDATE:20260308T020000
RDATE:20270314T020000
END:DAYLIGHT
END:VTIMEZONE
BEGIN:VEVENT
UID:2b52b94e-9327-4228-bb9b-4fa8c75cc136
DTSTAMP:20260420T211247Z
DESCRIPTION:KCCB rehearses for the December 21st\, 2025\, 3pm performance i
 n the Kayhi Auditorium!!
DTSTART;TZID=America/Anchorage:20251013T190000
DTEND;TZID=America/Anchorage:20251013T203000
LOCATION:First Assembly Church of God
SUMMARY:Ketchikan Community Concert Band Rehearsal
END:VEVENT
END:VCALENDAR
