BEGIN:VCALENDAR
VERSION:2.0
PRODID:-//www.ketchikanarts.org//NONSGML kigkonsult.se iCalcreator 2.30.10/
 /
CALSCALE:GREGORIAN
METHOD:PUBLISH
UID:12e02f61-4a6b-4ab1-b210-1c898db128db
X-WR-CALDESC:
X-WR-RELCALID:790315328dd7c2b4901d0363cbbaeee7
X-WR-TIMEZONE:America/Anchorage
BEGIN:VTIMEZONE
TZID:America/Anchorage
BEGIN:STANDARD
TZNAME:AKST
DTSTART:20241103T020000
TZOFFSETFROM:-0800
TZOFFSETTO:-0900
RDATE:20251102T020000
RDATE:20261101T020000
END:STANDARD
BEGIN:DAYLIGHT
TZNAME:AKDT
DTSTART:20250309T020000
TZOFFSETFROM:-0900
TZOFFSETTO:-0800
RDATE:20260308T020000
RDATE:20270314T020000
END:DAYLIGHT
END:VTIMEZONE
BEGIN:VEVENT
UID:ce888d0f-75e0-4919-aa85-ce3acef0c6d7
DTSTAMP:20260420T211155Z
DESCRIPTION:
DTSTART;TZID=America/Anchorage:20251004T110000
DTEND;TZID=America/Anchorage:20251004T120000
LOCATION:Main Street Gallery - 330 Main Street
SUMMARY:Cammie May - Artist Presentation at the Main Street Gallery
END:VEVENT
END:VCALENDAR
