BEGIN:VCALENDAR
VERSION:2.0
PRODID:-//www.ketchikanarts.org//NONSGML kigkonsult.se iCalcreator 2.30.10/
 /
CALSCALE:GREGORIAN
METHOD:PUBLISH
UID:bbadb5f9-e0d7-4563-81e7-f882d946c9ac
X-WR-CALDESC:Rehearsals are every Tuesday from 6:30 to 8:30pm\n\nHeld at th
 e First United Methodist Church - 400 Main Street\n\nThe Winter Concerts w
 ill be:\n\nSunday\, December 7th\, 2025\, 3pm\nWednesday\, December 10th\,
  2025\, 7pm\nFirst United Methodist Church
X-WR-RELCALID:d489d74111473fd316bd6f288684f9de
X-WR-TIMEZONE:America/Anchorage
BEGIN:VTIMEZONE
TZID:America/Anchorage
BEGIN:STANDARD
TZNAME:AKST
DTSTART:20241103T020000
TZOFFSETFROM:-0800
TZOFFSETTO:-0900
RDATE:20251102T020000
RDATE:20261101T020000
END:STANDARD
BEGIN:DAYLIGHT
TZNAME:AKDT
DTSTART:20250309T020000
TZOFFSETFROM:-0900
TZOFFSETTO:-0800
RDATE:20260308T020000
RDATE:20270314T020000
END:DAYLIGHT
END:VTIMEZONE
BEGIN:VEVENT
UID:622455a8-1576-4423-aa82-3ec8909d5cc1
DTSTAMP:20260420T224447Z
DESCRIPTION:Rehearsals are every Tuesday from 6:30 to 8:30pm\n\nHeld at the
  First United Methodist Church - 400 Main Street\n\nThe Winter Concerts wi
 ll be:\n\nSunday\, December 7th\, 2025\, 3pm\nWednesday\, December 10th\, 
 2025\, 7pm\nFirst United Methodist Church
DTSTART;TZID=America/Anchorage:20250930T183000
DTEND;TZID=America/Anchorage:20250930T203000
LOCATION:First United Methodist Church - 400 Main Street
SUMMARY:Ketchikan Community Chorus Rehearsal
END:VEVENT
END:VCALENDAR
