BEGIN:VCALENDAR
VERSION:2.0
PRODID:-//www.ketchikanarts.org//NONSGML kigkonsult.se iCalcreator 2.30.10/
 /
CALSCALE:GREGORIAN
METHOD:PUBLISH
UID:53fa3e03-96f1-41b5-a9c0-e531d15a3a74
X-WR-CALDESC:Traditional Filipino Dance & Music Classes!!!  Details are bei
 ng firmed up but contact Czarina for more information!!!
X-WR-RELCALID:7ebedfc31cef7112eebc51291b98acae
X-WR-TIMEZONE:America/Anchorage
BEGIN:VTIMEZONE
TZID:America/Anchorage
BEGIN:STANDARD
TZNAME:AKST
DTSTART:20241103T020000
TZOFFSETFROM:-0800
TZOFFSETTO:-0900
RDATE:20251102T020000
RDATE:20261101T020000
END:STANDARD
BEGIN:DAYLIGHT
TZNAME:AKDT
DTSTART:20250309T020000
TZOFFSETFROM:-0900
TZOFFSETTO:-0800
RDATE:20260308T020000
RDATE:20270314T020000
END:DAYLIGHT
END:VTIMEZONE
BEGIN:VEVENT
UID:536b705f-0003-43f6-a108-10e0ad9c8fb7
DTSTAMP:20260420T224156Z
DESCRIPTION:Traditional Filipino Dance & Music Classes!!!  Details are bein
 g firmed up but contact Czarina for more information!!!
DTSTART;TZID=America/Anchorage:20250924T130000
DTEND;TZID=America/Anchorage:20250924T143000
LOCATION:TBA!!!
SUMMARY:Magsayawan Ketchikan Dance & Music Classes
END:VEVENT
END:VCALENDAR
