BEGIN:VCALENDAR
VERSION:2.0
PRODID:-//www.ketchikanarts.org//NONSGML kigkonsult.se iCalcreator 2.30.10/
 /
CALSCALE:GREGORIAN
METHOD:PUBLISH
UID:05494f05-124d-45ce-8134-5f1255794a0b
X-WR-CALDESC:
X-WR-RELCALID:c1fa887aa9e3085f4ea7ab6e396f37f4
X-WR-TIMEZONE:America/Anchorage
BEGIN:VTIMEZONE
TZID:America/Anchorage
BEGIN:STANDARD
TZNAME:AKST
DTSTART:20241103T020000
TZOFFSETFROM:-0800
TZOFFSETTO:-0900
RDATE:20251102T020000
RDATE:20261101T020000
END:STANDARD
BEGIN:DAYLIGHT
TZNAME:AKDT
DTSTART:20250309T020000
TZOFFSETFROM:-0900
TZOFFSETTO:-0800
RDATE:20260308T020000
RDATE:20270314T020000
END:DAYLIGHT
END:VTIMEZONE
BEGIN:VEVENT
UID:80a426b2-12a3-44ea-a633-b4451d6c9eda
DTSTAMP:20260420T223825Z
DESCRIPTION:
DTSTART;TZID=America/Anchorage:20250921T130000
DTEND;TZID=America/Anchorage:20250921T163000
LOCATION:Fabulous Fiber Arts Yarn Shop next to Parnassus Books
SUMMARY:Brioche Re-boot Sunday
END:VEVENT
END:VCALENDAR
