BEGIN:VCALENDAR
VERSION:2.0
PRODID:-//www.ketchikanarts.org//NONSGML kigkonsult.se iCalcreator 2.30.10/
 /
CALSCALE:GREGORIAN
METHOD:PUBLISH
UID:69903fd6-1db2-42be-a670-9800ff26f5ff
X-WR-CALDESC:KCCB begins rehearsals for the December 21st\, 2025\, 3pm perf
 ormance in the Kayhi Auditorium!!
X-WR-RELCALID:351734e43503b307920d9f6059d37806
X-WR-TIMEZONE:America/Anchorage
BEGIN:VTIMEZONE
TZID:America/Anchorage
BEGIN:STANDARD
TZNAME:AKST
DTSTART:20241103T020000
TZOFFSETFROM:-0800
TZOFFSETTO:-0900
RDATE:20251102T020000
RDATE:20261101T020000
END:STANDARD
BEGIN:DAYLIGHT
TZNAME:AKDT
DTSTART:20250309T020000
TZOFFSETFROM:-0900
TZOFFSETTO:-0800
RDATE:20260308T020000
RDATE:20270314T020000
END:DAYLIGHT
END:VTIMEZONE
BEGIN:VEVENT
UID:c3655de0-437c-4ec0-9c0f-32bff0256ed5
DTSTAMP:20260420T224441Z
DESCRIPTION:KCCB begins rehearsals for the December 21st\, 2025\, 3pm perfo
 rmance in the Kayhi Auditorium!!
DTSTART;TZID=America/Anchorage:20250915T190000
DTEND;TZID=America/Anchorage:20250915T203000
LOCATION:First Assembly Church of God
SUMMARY:Ketchikan Community Concert Band Rehearsals BEGIN!!!!
END:VEVENT
END:VCALENDAR
