BEGIN:VCALENDAR
VERSION:2.0
PRODID:-//www.ketchikanarts.org//NONSGML kigkonsult.se iCalcreator 2.30.10/
 /
CALSCALE:GREGORIAN
METHOD:PUBLISH
UID:d724c57f-f493-4b93-9611-bbd733b24d7e
X-WR-CALDESC:Traditional Filipino Dance & Music Classes!!!  Details are bei
 ng firmed up but contact Czarina for more information!!!
X-WR-RELCALID:1f245e0595165f5b8c61897d37bcfcea
X-WR-TIMEZONE:America/Anchorage
BEGIN:VTIMEZONE
TZID:America/Anchorage
BEGIN:STANDARD
TZNAME:AKST
DTSTART:20241103T020000
TZOFFSETFROM:-0800
TZOFFSETTO:-0900
RDATE:20251102T020000
RDATE:20261101T020000
END:STANDARD
BEGIN:DAYLIGHT
TZNAME:AKDT
DTSTART:20250309T020000
TZOFFSETFROM:-0900
TZOFFSETTO:-0800
RDATE:20260308T020000
END:DAYLIGHT
END:VTIMEZONE
BEGIN:VEVENT
UID:fca1a30d-0b2e-4b16-8431-e0a7da2de2ea
DTSTAMP:20260420T224119Z
DESCRIPTION:Traditional Filipino Dance & Music Classes!!!  Details are bein
 g firmed up but contact Czarina for more information!!!
DTSTART;TZID=America/Anchorage:20250910T130000
DTEND;TZID=America/Anchorage:20250910T143000
LOCATION:TBA!!!
SUMMARY:Magsayawan Ketchikan Dance & Music Classes
END:VEVENT
END:VCALENDAR
