BEGIN:VCALENDAR
VERSION:2.0
PRODID:-//www.ketchikanarts.org//NONSGML kigkonsult.se iCalcreator 2.30.10/
 /
CALSCALE:GREGORIAN
METHOD:PUBLISH
UID:92d96d27-82a5-4352-8ce4-e4ef4efd3f72
X-WR-CALDESC:
X-WR-RELCALID:de661225995dd1b2112b06da94410033
X-WR-TIMEZONE:America/Anchorage
BEGIN:VTIMEZONE
TZID:America/Anchorage
BEGIN:STANDARD
TZNAME:AKST
DTSTART:20241103T020000
TZOFFSETFROM:-0800
TZOFFSETTO:-0900
RDATE:20251102T020000
RDATE:20261101T020000
END:STANDARD
BEGIN:DAYLIGHT
TZNAME:AKDT
DTSTART:20250309T020000
TZOFFSETFROM:-0900
TZOFFSETTO:-0800
RDATE:20260308T020000
END:DAYLIGHT
END:VTIMEZONE
BEGIN:VEVENT
UID:80199295-7d81-4a6c-ab18-7f026c01739c
DTSTAMP:20260420T223846Z
DESCRIPTION:
DTSTART;TZID=America/Anchorage:20250902T163000
DTEND;TZID=America/Anchorage:20250902T190000
LOCATION:Alaska Legends in Downtown Ketchikan
SUMMARY:Paint Your Own Pottery Night!
END:VEVENT
END:VCALENDAR
