BEGIN:VCALENDAR
VERSION:2.0
PRODID:-//www.ketchikanarts.org//NONSGML kigkonsult.se iCalcreator 2.30.10/
 /
CALSCALE:GREGORIAN
METHOD:PUBLISH
UID:8ff0a284-59e7-4ee9-9366-2f97d90b92e6
X-WR-CALDESC:
X-WR-RELCALID:ee5325af44b83b7ed0cd08ac592dd17d
X-WR-TIMEZONE:America/Anchorage
BEGIN:VTIMEZONE
TZID:America/Anchorage
BEGIN:STANDARD
TZNAME:AKST
DTSTART:20241103T020000
TZOFFSETFROM:-0800
TZOFFSETTO:-0900
RDATE:20251102T020000
RDATE:20261101T020000
END:STANDARD
BEGIN:DAYLIGHT
TZNAME:AKDT
DTSTART:20250309T020000
TZOFFSETFROM:-0900
TZOFFSETTO:-0800
RDATE:20260308T020000
END:DAYLIGHT
END:VTIMEZONE
BEGIN:VEVENT
UID:a4ebdfe8-ce15-4ba2-ab95-a4ec5fe56d14
DTSTAMP:20260421T000526Z
DESCRIPTION:
DTSTART;TZID=America/Anchorage:20250802T180000
DTEND;TZID=America/Anchorage:20250802T210000
LOCATION:Creek Street Cabaret
SUMMARY:Line Dancing - Katie Dosset
END:VEVENT
END:VCALENDAR
