BEGIN:VCALENDAR
VERSION:2.0
PRODID:-//www.ketchikanarts.org//NONSGML kigkonsult.se iCalcreator 2.30.10/
 /
CALSCALE:GREGORIAN
METHOD:PUBLISH
UID:b3af9539-1e4e-4b4b-9ea0-604d12c2d477
X-WR-CALDESC:
X-WR-RELCALID:a4a094781c4f95a1a6207aeb7a481bb9
X-WR-TIMEZONE:America/Anchorage
BEGIN:VTIMEZONE
TZID:America/Anchorage
BEGIN:STANDARD
TZNAME:AKST
DTSTART:20241103T020000
TZOFFSETFROM:-0800
TZOFFSETTO:-0900
RDATE:20251102T020000
RDATE:20261101T020000
END:STANDARD
BEGIN:DAYLIGHT
TZNAME:AKDT
DTSTART:20250309T020000
TZOFFSETFROM:-0900
TZOFFSETTO:-0800
RDATE:20260308T020000
END:DAYLIGHT
END:VTIMEZONE
BEGIN:VEVENT
UID:bc9f7abf-45e9-4238-bdcd-14ec382446d5
DTSTAMP:20260421T014719Z
DESCRIPTION:
DTSTART;TZID=America/Anchorage:20250630T020000
DTEND;TZID=America/Anchorage:20250711T020001
LOCATION:Kayhi Commons
SUMMARY:Ketchikan Kapamilya Culture Camp
END:VEVENT
END:VCALENDAR
