BEGIN:VCALENDAR
VERSION:2.0
PRODID:-//www.ketchikanarts.org//NONSGML kigkonsult.se iCalcreator 2.30.10/
 /
CALSCALE:GREGORIAN
METHOD:PUBLISH
UID:b1d6e254-9969-4d1b-8692-cf29e7af7a20
X-WR-CALDESC:KCCB rehearses for the April 13\, 3pm performance!!
X-WR-RELCALID:6955a9ff264ab3c74ca35b38b740b371
X-WR-TIMEZONE:America/Anchorage
BEGIN:VTIMEZONE
TZID:America/Anchorage
BEGIN:STANDARD
TZNAME:AKST
DTSTART:20241103T020000
TZOFFSETFROM:-0800
TZOFFSETTO:-0900
RDATE:20251102T020000
END:STANDARD
BEGIN:DAYLIGHT
TZNAME:AKDT
DTSTART:20250309T020000
TZOFFSETFROM:-0900
TZOFFSETTO:-0800
RDATE:20260308T020000
END:DAYLIGHT
END:VTIMEZONE
BEGIN:VEVENT
UID:ab39936d-0add-4568-8894-78b77b7e90e2
DTSTAMP:20260421T062213Z
DESCRIPTION:KCCB rehearses for the April 13\, 3pm performance!!
DTSTART;TZID=America/Anchorage:20250407T190000
DTEND;TZID=America/Anchorage:20250407T203000
LOCATION:First Assembly Church of God
SUMMARY:Ketchikan Community Concert Band Rehearsal
END:VEVENT
END:VCALENDAR
