BEGIN:VCALENDAR
VERSION:2.0
PRODID:-//www.ketchikanarts.org//NONSGML kigkonsult.se iCalcreator 2.30.10/
 /
CALSCALE:GREGORIAN
METHOD:PUBLISH
UID:96933104-6bd1-4cd6-821b-bd1f2cf76fc7
X-WR-CALDESC:Classes for grades 1- 12!! Scholarships are available!!!
X-WR-RELCALID:a87a2fc47f1ba702c98a48ceb0ed0b1e
X-WR-TIMEZONE:America/Anchorage
BEGIN:VTIMEZONE
TZID:America/Anchorage
BEGIN:STANDARD
TZNAME:AKST
DTSTART:20241103T020000
TZOFFSETFROM:-0800
TZOFFSETTO:-0900
RDATE:20251102T020000
END:STANDARD
BEGIN:DAYLIGHT
TZNAME:AKDT
DTSTART:20250309T020000
TZOFFSETFROM:-0900
TZOFFSETTO:-0800
RDATE:20260308T020000
END:DAYLIGHT
END:VTIMEZONE
BEGIN:VEVENT
UID:e40af769-901c-4bfa-ab73-aaa9eb272e2b
DTSTAMP:20260421T061836Z
DESCRIPTION:Classes for grades 1- 12!! Scholarships are available!!!
DTSTART;TZID=America/Anchorage:20250405T120000
DTEND;TZID=America/Anchorage:20250405T153000
LOCATION:First City Players
SUMMARY:Starpath Theatre Classes - First City Players
END:VEVENT
END:VCALENDAR
