BEGIN:VCALENDAR
VERSION:2.0
PRODID:-//www.ketchikanarts.org//NONSGML kigkonsult.se iCalcreator 2.30.10/
 /
CALSCALE:GREGORIAN
METHOD:PUBLISH
UID:5b63b7a4-fa2c-49f8-8574-c58ea5cbead6
X-WR-CALDESC:The March 24th KCCB rehearsal has been cancelled due to the ro
 ck slide and subsequent closure of Tongass Ave. Watch for emails from Jeff
  about the March 31st rehearsal!
X-WR-RELCALID:391180d831ab38cb1c347529b6c91896
X-WR-TIMEZONE:America/Anchorage
BEGIN:VTIMEZONE
TZID:America/Anchorage
BEGIN:STANDARD
TZNAME:AKST
DTSTART:20241103T020000
TZOFFSETFROM:-0800
TZOFFSETTO:-0900
RDATE:20251102T020000
END:STANDARD
BEGIN:DAYLIGHT
TZNAME:AKDT
DTSTART:20250309T020000
TZOFFSETFROM:-0900
TZOFFSETTO:-0800
RDATE:20260308T020000
END:DAYLIGHT
END:VTIMEZONE
BEGIN:VEVENT
UID:d69d844e-32f8-4a00-aa29-5cf77071b262
DTSTAMP:20260421T073751Z
DESCRIPTION:The March 24th KCCB rehearsal has been cancelled due to the roc
 k slide and subsequent closure of Tongass Ave. Watch for emails from Jeff 
 about the March 31st rehearsal!
DTSTART;TZID=America/Anchorage:20250324T190000
DTEND;TZID=America/Anchorage:20250324T203000
LOCATION:First Assembly Church of God
SUMMARY:Ketchikan Community Concert Band Rehearsal - CANCELLED
END:VEVENT
END:VCALENDAR
