BEGIN:VCALENDAR
VERSION:2.0
PRODID:-//www.ketchikanarts.org//NONSGML kigkonsult.se iCalcreator 2.30.10/
 /
CALSCALE:GREGORIAN
METHOD:PUBLISH
UID:552ff7f1-6b3b-4a58-853d-c8171001d82f
X-WR-CALDESC:The Ketchikan Chamber Orchestra rehearses for the Spring 2025 
 performance!!!!
X-WR-RELCALID:daee65066c8b4f54d51fe952d71807bd
X-WR-TIMEZONE:America/Anchorage
BEGIN:VTIMEZONE
TZID:America/Anchorage
BEGIN:STANDARD
TZNAME:AKST
DTSTART:20241103T020000
TZOFFSETFROM:-0800
TZOFFSETTO:-0900
RDATE:20251102T020000
END:STANDARD
BEGIN:DAYLIGHT
TZNAME:AKDT
DTSTART:20250309T020000
TZOFFSETFROM:-0900
TZOFFSETTO:-0800
RDATE:20260308T020000
END:DAYLIGHT
END:VTIMEZONE
BEGIN:VEVENT
UID:73e3112b-1215-4a51-af79-1f38bf87bb42
DTSTAMP:20260421T075217Z
DESCRIPTION:The Ketchikan Chamber Orchestra rehearses for the Spring 2025 p
 erformance!!!!
DTSTART;TZID=America/Anchorage:20250319T180000
DTEND;TZID=America/Anchorage:20250319T200000
LOCATION:First Lutheran Church
SUMMARY:Ketchikan Chamber Orchesta Rehearsal
END:VEVENT
END:VCALENDAR
