BEGIN:VCALENDAR
VERSION:2.0
PRODID:-//www.ketchikanarts.org//NONSGML kigkonsult.se iCalcreator 2.30.10/
 /
CALSCALE:GREGORIAN
METHOD:PUBLISH
UID:755fc81d-2068-4999-95e3-53f60754a608
X-WR-CALDESC:Learn to use resin to create your own art projects. Join local
  artist Chris Blossom\, owner of Blossom Studio Art\, for a fun class that
  is open to the public. No experience necessary. Class is limited to 10 st
 udents. Cost is $30\, including all supplies. To sign up call 907-617-3251
 \, space is limited so call now. If the class does not fill by Sunday\, wa
 lk-ins are welcome.
X-WR-RELCALID:195095dc33e3eb2dde7b90db596bbae3
X-WR-TIMEZONE:America/Anchorage
BEGIN:VTIMEZONE
TZID:America/Anchorage
BEGIN:STANDARD
TZNAME:AKST
DTSTART:20241103T020000
TZOFFSETFROM:-0800
TZOFFSETTO:-0900
RDATE:20251102T020000
END:STANDARD
BEGIN:DAYLIGHT
TZNAME:AKDT
DTSTART:20250309T020000
TZOFFSETFROM:-0900
TZOFFSETTO:-0800
RDATE:20260308T020000
END:DAYLIGHT
END:VTIMEZONE
BEGIN:VEVENT
UID:7c938e97-4c1b-4c12-9f5f-e67edfb29c7f
DTSTAMP:20260421T075243Z
DESCRIPTION:Learn to use resin to create your own art projects. Join local 
 artist Chris Blossom\, owner of Blossom Studio Art\, for a fun class that 
 is open to the public. No experience necessary. Class is limited to 10 stu
 dents. Cost is $30\, including all supplies. To sign up call 907-617-3251\
 , space is limited so call now. If the class does not fill by Sunday\, wal
 k-ins are welcome.
DTSTART;TZID=America/Anchorage:20250316T143000
DTEND;TZID=America/Anchorage:20250316T173000
LOCATION:Mission Street Local Arts Market - 410 Mission Street
SUMMARY:Mission Street Local Arts Market - Resin Art class
END:VEVENT
END:VCALENDAR
