BEGIN:VCALENDAR
VERSION:2.0
PRODID:-//www.ketchikanarts.org//NONSGML kigkonsult.se iCalcreator 2.30.10/
 /
CALSCALE:GREGORIAN
METHOD:PUBLISH
UID:eadaaff0-775a-43b5-9237-d657f8f2c057
X-WR-CALDESC:Have fun making your own gnome magnets. Join local artist Lori
  Skaggs\, owner of Wicked Awesome Craftinators\, for a fun class that is o
 pen to the public. No experience necessary. Class is limited to 10 student
 s. Cost is $25\, including all supplies. To sign up call 907-617-3251\, sp
 ace is limited so call now. If the class does not fill by Saturday\, walk-
 ins are welcome.
X-WR-RELCALID:5507b50ecc4a1203d0dbbc459bda0a7d
X-WR-TIMEZONE:America/Anchorage
BEGIN:VTIMEZONE
TZID:America/Anchorage
BEGIN:STANDARD
TZNAME:AKST
DTSTART:20241103T020000
TZOFFSETFROM:-0800
TZOFFSETTO:-0900
RDATE:20251102T020000
END:STANDARD
BEGIN:DAYLIGHT
TZNAME:AKDT
DTSTART:20250309T020000
TZOFFSETFROM:-0900
TZOFFSETTO:-0800
RDATE:20260308T020000
END:DAYLIGHT
END:VTIMEZONE
BEGIN:VEVENT
UID:b8e60190-207d-4c32-8741-ba06da1818f7
DTSTAMP:20260421T073709Z
DESCRIPTION:Have fun making your own gnome magnets. Join local artist Lori 
 Skaggs\, owner of Wicked Awesome Craftinators\, for a fun class that is op
 en to the public. No experience necessary. Class is limited to 10 students
 . Cost is $25\, including all supplies. To sign up call 907-617-3251\, spa
 ce is limited so call now. If the class does not fill by Saturday\, walk-i
 ns are welcome.
DTSTART;TZID=America/Anchorage:20250315T143000
DTEND;TZID=America/Anchorage:20250315T163000
LOCATION:Mission Street Local Arts Market - 410 Mission Street
SUMMARY:Make a magnetic Gnome! - Mission Street Local Arts Market
END:VEVENT
END:VCALENDAR
