BEGIN:VCALENDAR
VERSION:2.0
PRODID:-//www.ketchikanarts.org//NONSGML kigkonsult.se iCalcreator 2.30.10/
 /
CALSCALE:GREGORIAN
METHOD:PUBLISH
UID:422e09ec-4293-48d5-adb7-3d91c44d0612
X-WR-CALDESC:
X-WR-RELCALID:5147cccc0e969e6f4583ac750ff4b2ca
X-WR-TIMEZONE:America/Anchorage
BEGIN:VTIMEZONE
TZID:America/Anchorage
BEGIN:STANDARD
TZNAME:AKST
DTSTART:20241103T020000
TZOFFSETFROM:-0800
TZOFFSETTO:-0900
RDATE:20251102T020000
END:STANDARD
BEGIN:DAYLIGHT
TZNAME:AKDT
DTSTART:20250309T020000
TZOFFSETFROM:-0900
TZOFFSETTO:-0800
RDATE:20260308T020000
END:DAYLIGHT
END:VTIMEZONE
BEGIN:VEVENT
UID:6f6695b8-2195-4b61-80af-9782d4a439df
DTSTAMP:20260421T073325Z
DESCRIPTION:
DTSTART;TZID=America/Anchorage:20250314T080000
DTEND;TZID=America/Anchorage:20250314T120000
LOCATION:Totem Heritage Center
SUMMARY:Native Arts Studies Program - Cedar Bark Weaving Spring Break Class
 !!!
END:VEVENT
END:VCALENDAR
