BEGIN:VCALENDAR
VERSION:2.0
PRODID:-//www.ketchikanarts.org//NONSGML kigkonsult.se iCalcreator 2.30.10/
 /
CALSCALE:GREGORIAN
METHOD:PUBLISH
UID:5d6b4efb-b311-4173-aa44-c8a67bcaa0d9
X-WR-CALDESC:Bring your ukulele and have some fun playing with the group.\n
 Meets on Thursdays at 3:00pm at the Bayside Hotel!
X-WR-RELCALID:a406203b750eddac58531c1f1bd1c437
X-WR-TIMEZONE:America/Anchorage
BEGIN:VTIMEZONE
TZID:America/Anchorage
BEGIN:STANDARD
TZNAME:AKST
DTSTART:20241103T020000
TZOFFSETFROM:-0800
TZOFFSETTO:-0900
RDATE:20251102T020000
END:STANDARD
BEGIN:DAYLIGHT
TZNAME:AKDT
DTSTART:20250309T020000
TZOFFSETFROM:-0900
TZOFFSETTO:-0800
RDATE:20260308T020000
END:DAYLIGHT
END:VTIMEZONE
BEGIN:VEVENT
UID:b5178d0f-fbe1-46e6-8505-6a872b6198e6
DTSTAMP:20260421T073422Z
DESCRIPTION:Bring your ukulele and have some fun playing with the group.\nM
 eets on Thursdays at 3:00pm at the Bayside Hotel!
DTSTART;TZID=America/Anchorage:20250313T150000
DTEND;TZID=America/Anchorage:20250313T170000
LOCATION:Bayside Hotel Lobby
SUMMARY:The Ukelele Group
END:VEVENT
END:VCALENDAR
